BEGIN:VCALENDAR
VERSION:2.0
PRODID:-//www.iocea.org.il//Events//EN
CALSCALE:GREGORIAN
METHOD:PUBLISH
BEGIN:VEVENT
UID:10479@www.iocea.org.il
DTSTAMP:20260421T134027Z
SUMMARY:פנמה סיטי ותעלת פנמה / 'תיירותית מקצועית וחובקת עולם'- הרצאה (מרצה &#8211\; מהנדס אלעד שמואלי) 31.8.26
DTSTART:20260831T130000Z
DTEND:20260831T143000Z
URL:https://www.iocea.org.il/events/%d7%a4%d7%a0%d7%9e%d7%94-%d7%a1%d7%99%d7%98%d7%99-%d7%95%d7%aa%d7%a2%d7%9c%d7%aa-%d7%a4%d7%a0%d7%9e%d7%94-%d7%aa%d7%99%d7%99%d7%a8%d7%95%d7%aa%d7%99%d7%aa-%d7%9e%d7%a7%d7%a6%d7%95%d7%a2%d7%99/
DESCRIPTION:https://www.iocea.org.il/events/%d7%a4%d7%a0%d7%9e%d7%94-%d7%a1%d7%99%d7%98%d7%99-%d7%95%d7%aa%d7%a2%d7%9c%d7%aa-%d7%a4%d7%a0%d7%9e%d7%94-%d7%aa%d7%99%d7%99%d7%a8%d7%95%d7%aa%d7%99%d7%aa-%d7%9e%d7%a7%d7%a6%d7%95%d7%a2%d7%99/
END:VEVENT
END:VCALENDAR
