BEGIN:VCALENDAR
VERSION:2.0
PRODID:-//www.iocea.org.il//Events//EN
CALSCALE:GREGORIAN
METHOD:PUBLISH
BEGIN:VEVENT
UID:10331@www.iocea.org.il
DTSTAMP:20260421T133332Z
SUMMARY:כלים לגיבוש תשתית ידע ארגונית מבוססת AI (הרצאת חובה) &#8211\; ד&quot\;ר דן אשר 6.5.26
DTSTART:20260506T130000Z
DTEND:20260506T151500Z
URL:https://www.iocea.org.il/events/%d7%9b%d7%9c%d7%99%d7%9d-%d7%9c%d7%92%d7%99%d7%91%d7%95%d7%a9-%d7%aa%d7%a9%d7%aa%d7%99%d7%aa-%d7%99%d7%93%d7%a2-%d7%90%d7%a8%d7%92%d7%95%d7%a0%d7%99%d7%aa-%d7%9e%d7%91%d7%95%d7%a1%d7%a1%d7%aa-ai/
DESCRIPTION:https://www.iocea.org.il/events/%d7%9b%d7%9c%d7%99%d7%9d-%d7%9c%d7%92%d7%99%d7%91%d7%95%d7%a9-%d7%aa%d7%a9%d7%aa%d7%99%d7%aa-%d7%99%d7%93%d7%a2-%d7%90%d7%a8%d7%92%d7%95%d7%a0%d7%99%d7%aa-%d7%9e%d7%91%d7%95%d7%a1%d7%a1%d7%aa-ai/
END:VEVENT
END:VCALENDAR
